BEGIN:VCALENDAR
VERSION:2.0
PRODID:-//Stratis iCal API//FR
CALSCALE:GREGORIAN
X-WR-CALNAME:Tester en avant-première les jumelles ENVISION
BEGIN:VEVENT
UID:event-485
SUMMARY:Tester en avant-première les jumelles ENVISION
DESCRIPTION:
DTSTAMP:20250812T130158Z
DTSTART:20250823T193000Z
DTEND:20250822T223000Z
STATUS:CONFIRMED
SEQUENCE:3
BEGIN:VALARM
TRIGGER:-PT30M
DESCRIPTION:Tester en avant-première les jumelles ENVISION
ACTION:DISPLAY
END:VALARM
END:VEVENT
END:VCALENDAR