BEGIN:VCALENDAR
VERSION:2.0
PRODID:-//Stratis iCal API//FR
CALSCALE:GREGORIAN
X-WR-CALNAME:Spectacle "La piste aux étoiles"
BEGIN:VEVENT
UID:event-484
SUMMARY:Spectacle "La piste aux étoiles"
DESCRIPTION:
DTSTAMP:20250805T125941Z
DTSTART:20250824T120000Z
DTEND:20250824T125000Z
STATUS:CONFIRMED
SEQUENCE:7
BEGIN:VALARM
TRIGGER:-PT30M
DESCRIPTION:Spectacle "La piste aux étoiles"
ACTION:DISPLAY
END:VALARM
END:VEVENT
END:VCALENDAR