BEGIN:VCALENDAR
VERSION:2.0
PRODID:-//Stratis iCal API//FR
CALSCALE:GREGORIAN
X-WR-CALNAME:Spectacle "Spectacle cosmique sous les étoiles"
BEGIN:VEVENT
UID:event-483
SUMMARY:Spectacle "Spectacle cosmique sous les étoiles"
DESCRIPTION:
DTSTAMP:20250805T125851Z
DTSTART:20250823T190000Z
DTEND:20250823T204500Z
STATUS:CONFIRMED
SEQUENCE:5
BEGIN:VALARM
TRIGGER:-PT30M
DESCRIPTION:Spectacle "Spectacle cosmique sous les étoiles"
ACTION:DISPLAY
END:VALARM
END:VEVENT
END:VCALENDAR