BEGIN:VCALENDAR
VERSION:2.0
PRODID:-//Stratis iCal API//FR
CALSCALE:GREGORIAN
X-WR-CALNAME:Spectacle "Bételgeuse, l’envoyée du ciel"
BEGIN:VEVENT
UID:event-481
SUMMARY:Spectacle "Bételgeuse  l’envoyée du ciel"
DESCRIPTION:
DTSTAMP:20250805T125658Z
DTSTART:20250822T184500Z
DTEND:20250822T194500Z
STATUS:CONFIRMED
SEQUENCE:5
BEGIN:VALARM
TRIGGER:-PT30M
DESCRIPTION:Spectacle "Bételgeuse  l’envoyée du ciel"
ACTION:DISPLAY
END:VALARM
END:VEVENT
END:VCALENDAR