BEGIN:VCALENDAR
VERSION:2.0
PRODID:-//Stratis iCal API//FR
CALSCALE:GREGORIAN
X-WR-CALNAME:Spectacle "Entre Ciel et Mer, le voyage de Pandora"
BEGIN:VEVENT
UID:event-480
SUMMARY:Spectacle "Entre Ciel et Mer  le voyage de Pandora"
DESCRIPTION:
DTSTAMP:20250805T125511Z
DTSTART:20250822T173000Z
DTEND:20250822T183000Z
STATUS:CONFIRMED
SEQUENCE:7
BEGIN:VALARM
TRIGGER:-PT30M
DESCRIPTION:Spectacle "Entre Ciel et Mer  le voyage de Pandora"
ACTION:DISPLAY
END:VALARM
END:VEVENT
END:VCALENDAR