BEGIN:VCALENDAR
VERSION:2.0
PRODID:-//Stratis iCal API//FR
CALSCALE:GREGORIAN
X-WR-CALNAME:Jeu de constellations
BEGIN:VEVENT
UID:event-478
SUMMARY:Jeu de constellations
DESCRIPTION:
DTSTAMP:20250728T145949Z
DTSTART:20250822T133000Z
DTEND:20250822T153000Z
STATUS:CONFIRMED
SEQUENCE:5
BEGIN:VALARM
TRIGGER:-PT30M
DESCRIPTION:Jeu de constellations
ACTION:DISPLAY
END:VALARM
END:VEVENT
END:VCALENDAR