BEGIN:VCALENDAR
VERSION:2.0
PRODID:-//Stratis iCal API//FR
CALSCALE:GREGORIAN
X-WR-CALNAME:Transats sous les étoiles : Lectures de la nuit
BEGIN:VEVENT
UID:event-474
SUMMARY:Transats sous les étoiles : Lectures de la nuit
DESCRIPTION:
DTSTAMP:20250723T075103Z
DTSTART:20250822T193000Z
DTEND:20250821T223000Z
STATUS:CONFIRMED
SEQUENCE:3
BEGIN:VALARM
TRIGGER:-PT30M
DESCRIPTION:Transats sous les étoiles : Lectures de la nuit
ACTION:DISPLAY
END:VALARM
END:VEVENT
END:VCALENDAR