BEGIN:VCALENDAR
VERSION:2.0
PRODID:-//Stratis iCal API//FR
CALSCALE:GREGORIAN
X-WR-CALNAME:Observation du ciel et des étoiles aux télescopes
BEGIN:VEVENT
UID:event-473
SUMMARY:Observation du ciel et des étoiles aux télescopes
DESCRIPTION:
DTSTAMP:20250723T074900Z
DTSTART:20250824T193000Z
DTEND:20250823T223000Z
STATUS:CONFIRMED
SEQUENCE:4
BEGIN:VALARM
TRIGGER:-PT30M
DESCRIPTION:Observation du ciel et des étoiles aux télescopes
ACTION:DISPLAY
END:VALARM
END:VEVENT
END:VCALENDAR