BEGIN:VCALENDAR
VERSION:2.0
PRODID:-//Stratis iCal API//FR
CALSCALE:GREGORIAN
X-WR-CALNAME:Initiation à la photographie des paysages étoilés - Dès 13 ans
BEGIN:VEVENT
UID:event-472
SUMMARY:Initiation à la photographie des paysages étoilés - Dès 13 ans
DESCRIPTION:
DTSTAMP:20250723T074428Z
DTSTART:20250823T193000Z
DTEND:20250822T223000Z
STATUS:CONFIRMED
SEQUENCE:6
BEGIN:VALARM
TRIGGER:-PT30M
DESCRIPTION:Initiation à la photographie des paysages étoilés - Dès 13 ans
ACTION:DISPLAY
END:VALARM
END:VEVENT
END:VCALENDAR