BEGIN:VCALENDAR
VERSION:2.0
PRODID:-//Stratis iCal API//FR
CALSCALE:GREGORIAN
X-WR-CALNAME:Concert - Duo mandoline et guitare
BEGIN:VEVENT
UID:event-470
SUMMARY:Concert - Duo mandoline et guitare
DESCRIPTION:
DTSTAMP:20250723T073749Z
DTSTART:20250823T090000Z
DTEND:20250823T100000Z
STATUS:CONFIRMED
SEQUENCE:7
BEGIN:VALARM
TRIGGER:-PT30M
DESCRIPTION:Concert - Duo mandoline et guitare
ACTION:DISPLAY
END:VALARM
END:VEVENT
END:VCALENDAR