BEGIN:VCALENDAR
VERSION:2.0
PRODID:-//Stratis iCal API//FR
CALSCALE:GREGORIAN
X-WR-CALNAME:Ciné-Concert - Astronomie
BEGIN:VEVENT
UID:event-469
SUMMARY:Ciné-Concert - Astronomie
DESCRIPTION:
DTSTAMP:20250723T072106Z
DTSTART:20250822T190000Z
DTEND:20250822T201500Z
STATUS:CONFIRMED
SEQUENCE:9
BEGIN:VALARM
TRIGGER:-PT30M
DESCRIPTION:Ciné-Concert - Astronomie
ACTION:DISPLAY
END:VALARM
END:VEVENT
END:VCALENDAR