BEGIN:VCALENDAR
VERSION:2.0
PRODID:-//Stratis iCal API//FR
CALSCALE:GREGORIAN
X-WR-CALNAME:Randonnée nocturne : Randonnée sous les étoiles 
BEGIN:VEVENT
UID:event-468
SUMMARY:Randonnée nocturne : Randonnée sous les étoiles 
DESCRIPTION:
DTSTAMP:20250722T123034Z
DTSTART:20250823T183000Z
DTEND:20250823T210000Z
STATUS:CONFIRMED
SEQUENCE:7
BEGIN:VALARM
TRIGGER:-PT30M
DESCRIPTION:Randonnée nocturne : Randonnée sous les étoiles 
ACTION:DISPLAY
END:VALARM
END:VEVENT
END:VCALENDAR