BEGIN:VCALENDAR
VERSION:2.0
PRODID:-//Stratis iCal API//FR
CALSCALE:GREGORIAN
X-WR-CALNAME:Randonnée nocturne : De la Terre aux étoiles
BEGIN:VEVENT
UID:event-467
SUMMARY:Randonnée nocturne : De la Terre aux étoiles
DESCRIPTION:
DTSTAMP:20250722T122705Z
DTSTART:20250823T180000Z
DTEND:20250823T213000Z
STATUS:CONFIRMED
SEQUENCE:6
BEGIN:VALARM
TRIGGER:-PT30M
DESCRIPTION:Randonnée nocturne : De la Terre aux étoiles
ACTION:DISPLAY
END:VALARM
END:VEVENT
END:VCALENDAR