BEGIN:VCALENDAR
VERSION:2.0
PRODID:-//Stratis iCal API//FR
CALSCALE:GREGORIAN
X-WR-CALNAME:Randonnée nocturne : Avec les animaux de la nuit 
BEGIN:VEVENT
UID:event-466
SUMMARY:Randonnée nocturne : Avec les animaux de la nuit 
DESCRIPTION:
DTSTAMP:20250722T121856Z
DTSTART:20250823T173000Z
DTEND:20250823T200000Z
STATUS:CONFIRMED
SEQUENCE:6
BEGIN:VALARM
TRIGGER:-PT30M
DESCRIPTION:Randonnée nocturne : Avec les animaux de la nuit 
ACTION:DISPLAY
END:VALARM
END:VEVENT
END:VCALENDAR