BEGIN:VCALENDAR
VERSION:2.0
PRODID:-//Stratis iCal API//FR
CALSCALE:GREGORIAN
X-WR-CALNAME:Spectacle en balade et randonnée nocturne sur les chauves-souris
BEGIN:VEVENT
UID:event-465
SUMMARY:Spectacle en balade et randonnée nocturne sur les chauves-souris
DESCRIPTION:"La P’tite Rhinolophe"
DTSTAMP:20250722T121553Z
DTSTART:20250823T170000Z
DTEND:20250823T200000Z
STATUS:CONFIRMED
SEQUENCE:8
BEGIN:VALARM
TRIGGER:-PT30M
DESCRIPTION:Spectacle en balade et randonnée nocturne sur les chauves-souris
ACTION:DISPLAY
END:VALARM
END:VEVENT
END:VCALENDAR