BEGIN:VCALENDAR
VERSION:2.0
PRODID:-//Stratis iCal API//FR
CALSCALE:GREGORIAN
X-WR-CALNAME:Randonnée nocturne : Astro-randonnée - Vers le hameau de la Colle 
BEGIN:VEVENT
UID:event-464
SUMMARY:Randonnée nocturne : Astro-randonnée - Vers le hameau de la Colle 
DESCRIPTION:
DTSTAMP:20250722T121109Z
DTSTART:20250823T161000Z
DTEND:20250823T204000Z
STATUS:CONFIRMED
SEQUENCE:7
BEGIN:VALARM
TRIGGER:-PT30M
DESCRIPTION:Randonnée nocturne : Astro-randonnée - Vers le hameau de la Colle 
ACTION:DISPLAY
END:VALARM
END:VEVENT
END:VCALENDAR