BEGIN:VCALENDAR
VERSION:2.0
PRODID:-//Stratis iCal API//FR
CALSCALE:GREGORIAN
X-WR-CALNAME:Randonnée nocturne : Astro-randonnée - La Tête du Garnier dans les étoiles !
BEGIN:VEVENT
UID:event-463
SUMMARY:Randonnée nocturne : Astro-randonnée - La Tête du Garnier dans les étoiles !
DESCRIPTION:
DTSTAMP:20250722T120715Z
DTSTART:20250824T161000Z
DTEND:20250824T204000Z
STATUS:CONFIRMED
SEQUENCE:6
BEGIN:VALARM
TRIGGER:-PT30M
DESCRIPTION:Randonnée nocturne : Astro-randonnée - La Tête du Garnier dans les étoiles !
ACTION:DISPLAY
END:VALARM
END:VEVENT
END:VCALENDAR