BEGIN:VCALENDAR
VERSION:2.0
PRODID:-//Stratis iCal API//FR
CALSCALE:GREGORIAN
X-WR-CALNAME:Randonnée nocturne : Les anecdotes astronomiques des Alpes du sud
BEGIN:VEVENT
UID:event-462
SUMMARY:Randonnée nocturne : Les anecdotes astronomiques des Alpes du sud
DESCRIPTION:
DTSTAMP:20250722T120139Z
DTSTART:20250824T180000Z
DTEND:20250824T210000Z
STATUS:CONFIRMED
SEQUENCE:4
BEGIN:VALARM
TRIGGER:-PT30M
DESCRIPTION:Randonnée nocturne : Les anecdotes astronomiques des Alpes du sud
ACTION:DISPLAY
END:VALARM
END:VEVENT
END:VCALENDAR