BEGIN:VCALENDAR
VERSION:2.0
PRODID:-//Stratis iCal API//FR
CALSCALE:GREGORIAN
X-WR-CALNAME:Conférence : Lumière, je t’ai à l’œil !
BEGIN:VEVENT
UID:event-461
SUMMARY:Conférence : Lumière  je t’ai à l’œil !
DESCRIPTION:
DTSTAMP:20250722T115756Z
DTSTART:20250824T140000Z
DTEND:20250824T150000Z
STATUS:CONFIRMED
SEQUENCE:6
BEGIN:VALARM
TRIGGER:-PT30M
DESCRIPTION:Conférence : Lumière  je t’ai à l’œil !
ACTION:DISPLAY
END:VALARM
END:VEVENT
END:VCALENDAR