BEGIN:VCALENDAR
VERSION:2.0
PRODID:-//Stratis iCal API//FR
CALSCALE:GREGORIAN
X-WR-CALNAME:Conférence : Le massif de l’Argentera Mercantour s'invite dans le ballet des plaques tectoniques
BEGIN:VEVENT
UID:event-460
SUMMARY:Conférence : Le massif de l’Argentera Mercantour s'invite dans le ballet des plaques tectoniques
DESCRIPTION:
DTSTAMP:20250722T115658Z
DTSTART:20250824T123000Z
DTEND:20250824T133000Z
STATUS:CONFIRMED
SEQUENCE:6
BEGIN:VALARM
TRIGGER:-PT30M
DESCRIPTION:Conférence : Le massif de l’Argentera Mercantour s'invite dans le ballet des plaques tectoniques
ACTION:DISPLAY
END:VALARM
END:VEVENT
END:VCALENDAR