BEGIN:VCALENDAR
VERSION:2.0
PRODID:-//Stratis iCal API//FR
CALSCALE:GREGORIAN
X-WR-CALNAME:Conférence : La navigation aux étoiles
BEGIN:VEVENT
UID:event-459
SUMMARY:Conférence : La navigation aux étoiles
DESCRIPTION:
DTSTAMP:20250722T115553Z
DTSTART:20250824T110000Z
DTEND:20250824T120000Z
STATUS:CONFIRMED
SEQUENCE:6
BEGIN:VALARM
TRIGGER:-PT30M
DESCRIPTION:Conférence : La navigation aux étoiles
ACTION:DISPLAY
END:VALARM
END:VEVENT
END:VCALENDAR