BEGIN:VCALENDAR
VERSION:2.0
PRODID:-//Stratis iCal API//FR
CALSCALE:GREGORIAN
X-WR-CALNAME:Conférence : Canaux martiens : l'histoire d'une controverse scientifique majeure 
BEGIN:VEVENT
UID:event-458
SUMMARY:Conférence : Canaux martiens : l'histoire d'une controverse scientifique majeure 
DESCRIPTION:
DTSTAMP:20250722T100324Z
DTSTART:20250824T083000Z
DTEND:20250824T093000Z
STATUS:CONFIRMED
SEQUENCE:6
BEGIN:VALARM
TRIGGER:-PT30M
DESCRIPTION:Conférence : Canaux martiens : l'histoire d'une controverse scientifique majeure 
ACTION:DISPLAY
END:VALARM
END:VEVENT
END:VCALENDAR