BEGIN:VCALENDAR
VERSION:2.0
PRODID:-//Stratis iCal API//FR
CALSCALE:GREGORIAN
X-WR-CALNAME:Conférence : La Voie Lactée, des mythes antiques à la mission Gaïa
BEGIN:VEVENT
UID:event-456
SUMMARY:Conférence : La Voie Lactée  des mythes antiques à la mission Gaïa
DESCRIPTION:
DTSTAMP:20250722T095951Z
DTSTART:20250823T143000Z
DTEND:20250823T153000Z
STATUS:CONFIRMED
SEQUENCE:5
BEGIN:VALARM
TRIGGER:-PT30M
DESCRIPTION:Conférence : La Voie Lactée  des mythes antiques à la mission Gaïa
ACTION:DISPLAY
END:VALARM
END:VEVENT
END:VCALENDAR