BEGIN:VCALENDAR
VERSION:2.0
PRODID:-//Stratis iCal API//FR
CALSCALE:GREGORIAN
X-WR-CALNAME:Conférence : L'eau dans l'Univers : du milieu interstellaire à la Terre
BEGIN:VEVENT
UID:event-454
SUMMARY:Conférence : L'eau dans l'Univers : du milieu interstellaire à la Terre
DESCRIPTION:
DTSTAMP:20250722T095540Z
DTSTART:20250823T113000Z
DTEND:20250823T123000Z
STATUS:CONFIRMED
SEQUENCE:6
BEGIN:VALARM
TRIGGER:-PT30M
DESCRIPTION:Conférence : L'eau dans l'Univers : du milieu interstellaire à la Terre
ACTION:DISPLAY
END:VALARM
END:VEVENT
END:VCALENDAR