BEGIN:VCALENDAR
VERSION:2.0
PRODID:-//Stratis iCal API//FR
CALSCALE:GREGORIAN
X-WR-CALNAME:Conférence : L'Homme qui réduisait d'un milliard
BEGIN:VEVENT
UID:event-451
SUMMARY:Conférence : L'Homme qui réduisait d'un milliard
DESCRIPTION:
DTSTAMP:20250722T094955Z
DTSTART:20250822T133000Z
DTEND:20250822T143000Z
STATUS:CONFIRMED
SEQUENCE:5
BEGIN:VALARM
TRIGGER:-PT30M
DESCRIPTION:Conférence : L'Homme qui réduisait d'un milliard
ACTION:DISPLAY
END:VALARM
END:VEVENT
END:VCALENDAR