BEGIN:VCALENDAR
VERSION:2.0
PRODID:-//Stratis iCal API//FR
CALSCALE:GREGORIAN
X-WR-CALNAME:Conférence : V1, l'étoile qui a changé l'Univers 
BEGIN:VEVENT
UID:event-450
SUMMARY:Conférence : V1  l'étoile qui a changé l'Univers 
DESCRIPTION:
DTSTAMP:20250722T094732Z
DTSTART:20250823T090000Z
DTEND:20250823T100000Z
STATUS:CONFIRMED
SEQUENCE:5
BEGIN:VALARM
TRIGGER:-PT30M
DESCRIPTION:Conférence : V1  l'étoile qui a changé l'Univers 
ACTION:DISPLAY
END:VALARM
END:VEVENT
END:VCALENDAR