BEGIN:VCALENDAR
VERSION:2.0
PRODID:-//Stratis iCal API//FR
CALSCALE:GREGORIAN
X-WR-CALNAME:Détente : relaxation, méditation, repos du corps et de l'esprit avec les Arts énergétiques chinois - Taï Chi
BEGIN:VEVENT
UID:event-449
SUMMARY:Détente : relaxation  méditation  repos du corps et de l'esprit avec les Arts énergétiques chinois - Taï Chi
DESCRIPTION:
DTSTAMP:20250722T093341Z
DTSTART:20250823T150000Z
DTEND:20250823T160000Z
STATUS:CONFIRMED
SEQUENCE:5
BEGIN:VALARM
TRIGGER:-PT30M
DESCRIPTION:Détente : relaxation  méditation  repos du corps et de l'esprit avec les Arts énergétiques chinois - Taï Chi
ACTION:DISPLAY
END:VALARM
END:VEVENT
END:VCALENDAR