BEGIN:VCALENDAR
VERSION:2.0
PRODID:-//Stratis iCal API//FR
CALSCALE:GREGORIAN
X-WR-CALNAME:Détente : relaxation, méditation, repos du corps et de l'esprit avec les Arts énergétiques chinois - QI Gong
BEGIN:VEVENT
UID:event-448
SUMMARY:Détente : relaxation  méditation  repos du corps et de l'esprit avec les Arts énergétiques chinois - QI Gong
DESCRIPTION:
DTSTAMP:20250722T092811Z
DTSTART:20250823T083000Z
DTEND:20250823T090000Z
STATUS:CONFIRMED
SEQUENCE:5
BEGIN:VALARM
TRIGGER:-PT30M
DESCRIPTION:Détente : relaxation  méditation  repos du corps et de l'esprit avec les Arts énergétiques chinois - QI Gong
ACTION:DISPLAY
END:VALARM
END:VEVENT
END:VCALENDAR