BEGIN:VCALENDAR
VERSION:2.0
PRODID:-//Stratis iCal API//FR
CALSCALE:GREGORIAN
X-WR-CALNAME:Détente : Technique de réflexologie et de bien-être - 4 à 15 ans
BEGIN:VEVENT
UID:event-447
SUMMARY:Détente : Technique de réflexologie et de bien-être - 4 à 15 ans
DESCRIPTION:
DTSTAMP:20250722T090729Z
DTSTART:20250824T080000Z
DTEND:20250824T090000Z
STATUS:CONFIRMED
SEQUENCE:5
BEGIN:VALARM
TRIGGER:-PT30M
DESCRIPTION:Détente : Technique de réflexologie et de bien-être - 4 à 15 ans
ACTION:DISPLAY
END:VALARM
END:VEVENT
END:VCALENDAR