BEGIN:VCALENDAR
VERSION:2.0
PRODID:-//Stratis iCal API//FR
CALSCALE:GREGORIAN
X-WR-CALNAME:Détente : Technique de réflexologie et de bien-être - Dès 15 ans
BEGIN:VEVENT
UID:event-446
SUMMARY:Détente : Technique de réflexologie et de bien-être - Dès 15 ans
DESCRIPTION:
DTSTAMP:20250722T085623Z
DTSTART:20250822T143000Z
DTEND:20250822T153000Z
STATUS:CONFIRMED
SEQUENCE:4
BEGIN:VALARM
TRIGGER:-PT30M
DESCRIPTION:Détente : Technique de réflexologie et de bien-être - Dès 15 ans
ACTION:DISPLAY
END:VALARM
END:VEVENT
END:VCALENDAR