BEGIN:VCALENDAR
VERSION:2.0
PRODID:-//Stratis iCal API//FR
CALSCALE:GREGORIAN
X-WR-CALNAME:Planétarium PSTJ : Langage céleste
BEGIN:VEVENT
UID:event-445
SUMMARY:Planétarium PSTJ : Langage céleste
DESCRIPTION:
DTSTAMP:20250721T151711Z
DTSTART:20250824T150000Z
DTEND:20250824T154500Z
STATUS:CONFIRMED
SEQUENCE:4
BEGIN:VALARM
TRIGGER:-PT30M
DESCRIPTION:Planétarium PSTJ : Langage céleste
ACTION:DISPLAY
END:VALARM
END:VEVENT
END:VCALENDAR