BEGIN:VCALENDAR
VERSION:2.0
PRODID:-//Stratis iCal API//FR
CALSCALE:GREGORIAN
X-WR-CALNAME:Détente : Séance sophro ludique - 5-10 ans
BEGIN:VEVENT
UID:event-443
SUMMARY:Détente : Séance sophro ludique - 5-10 ans
DESCRIPTION:
DTSTAMP:20250721T151158Z
DTSTART:20250823T133000Z
DTEND:20250823T143000Z
STATUS:CONFIRMED
SEQUENCE:4
BEGIN:VALARM
TRIGGER:-PT30M
DESCRIPTION:Détente : Séance sophro ludique - 5-10 ans
ACTION:DISPLAY
END:VALARM
END:VEVENT
END:VCALENDAR