BEGIN:VCALENDAR
VERSION:2.0
PRODID:-//Stratis iCal API//FR
CALSCALE:GREGORIAN
X-WR-CALNAME:Planétarium PSTJ : Ces étoiles qui guident les navigateurs... et les astronomes
BEGIN:VEVENT
UID:event-442
SUMMARY:Planétarium PSTJ : Ces étoiles qui guident les navigateurs... et les astronomes
DESCRIPTION:
DTSTAMP:20250721T151155Z
DTSTART:20250823T150000Z
DTEND:20250823T154500Z
STATUS:CONFIRMED
SEQUENCE:4
BEGIN:VALARM
TRIGGER:-PT30M
DESCRIPTION:Planétarium PSTJ : Ces étoiles qui guident les navigateurs... et les astronomes
ACTION:DISPLAY
END:VALARM
END:VEVENT
END:VCALENDAR