BEGIN:VCALENDAR
VERSION:2.0
PRODID:-//Stratis iCal API//FR
CALSCALE:GREGORIAN
X-WR-CALNAME:Détente : Sophrologie & Relaxation - Dès 10 ans
BEGIN:VEVENT
UID:event-441
SUMMARY:Détente : Sophrologie & Relaxation - Dès 10 ans
DESCRIPTION:
DTSTAMP:20250721T145845Z
DTSTART:20250823T090000Z
DTEND:20250823T100000Z
STATUS:CONFIRMED
SEQUENCE:4
BEGIN:VALARM
TRIGGER:-PT30M
DESCRIPTION:Détente : Sophrologie & Relaxation - Dès 10 ans
ACTION:DISPLAY
END:VALARM
END:VEVENT
END:VCALENDAR