BEGIN:VCALENDAR
VERSION:2.0
PRODID:-//Stratis iCal API//FR
CALSCALE:GREGORIAN
X-WR-CALNAME:Planétarium PSTJ : À la découverte du ciel - Dès 10 ans
BEGIN:VEVENT
UID:event-439
SUMMARY:Planétarium PSTJ : À la découverte du ciel - Dès 10 ans
DESCRIPTION:
DTSTAMP:20250721T143224Z
DTSTART:20250822T133000Z
DTEND:20250822T141500Z
STATUS:CONFIRMED
SEQUENCE:6
BEGIN:VALARM
TRIGGER:-PT30M
DESCRIPTION:Planétarium PSTJ : À la découverte du ciel - Dès 10 ans
ACTION:DISPLAY
END:VALARM
END:VEVENT
END:VCALENDAR