BEGIN:VCALENDAR
VERSION:2.0
PRODID:-//Stratis iCal API//FR
CALSCALE:GREGORIAN
X-WR-CALNAME:Conte en musique : La guerre des constellations 
BEGIN:VEVENT
UID:event-438
SUMMARY:Conte en musique : La guerre des constellations 
DESCRIPTION:
DTSTAMP:20250721T142513Z
DTSTART:20250823T190000Z
DTEND:20250823T201500Z
STATUS:CONFIRMED
SEQUENCE:9
BEGIN:VALARM
TRIGGER:-PT30M
DESCRIPTION:Conte en musique : La guerre des constellations 
ACTION:DISPLAY
END:VALARM
END:VEVENT
END:VCALENDAR