BEGIN:VCALENDAR
VERSION:2.0
PRODID:-//Stratis iCal API//FR
CALSCALE:GREGORIAN
X-WR-CALNAME:Atelier ludique : Initiation et construction d'un Nocturlabe
BEGIN:VEVENT
UID:event-437
SUMMARY:Atelier ludique : Initiation et construction d'un Nocturlabe
DESCRIPTION:
DTSTAMP:20250721T142326Z
DTSTART:20250824T130000Z
DTEND:20250824T134500Z
STATUS:CONFIRMED
SEQUENCE:7
BEGIN:VALARM
TRIGGER:-PT30M
DESCRIPTION:Atelier ludique : Initiation et construction d'un Nocturlabe
ACTION:DISPLAY
END:VALARM
END:VEVENT
END:VCALENDAR