BEGIN:VCALENDAR
VERSION:2.0
PRODID:-//Stratis iCal API//FR
CALSCALE:GREGORIAN
X-WR-CALNAME:Rallye Astro
BEGIN:VEVENT
UID:event-435
SUMMARY:Rallye Astro
DESCRIPTION:
DTSTAMP:20250721T141651Z
DTSTART:20250823T120000Z
DTEND:20250823T150000Z
STATUS:CONFIRMED
SEQUENCE:3
BEGIN:VALARM
TRIGGER:-PT30M
DESCRIPTION:Rallye Astro
ACTION:DISPLAY
END:VALARM
END:VEVENT
END:VCALENDAR