BEGIN:VCALENDAR
VERSION:2.0
PRODID:-//Stratis iCal API//FR
CALSCALE:GREGORIAN
X-WR-CALNAME:Atelier ludique : Initiation et construction d'un Astrolabe
BEGIN:VEVENT
UID:event-434
SUMMARY:Atelier ludique : Initiation et construction d'un Astrolabe
DESCRIPTION:
DTSTAMP:20250721T141440Z
DTSTART:20250824T120000Z
DTEND:20250824T130000Z
STATUS:CONFIRMED
SEQUENCE:4
BEGIN:VALARM
TRIGGER:-PT30M
DESCRIPTION:Atelier ludique : Initiation et construction d'un Astrolabe
ACTION:DISPLAY
END:VALARM
END:VEVENT
END:VCALENDAR