BEGIN:VCALENDAR
VERSION:2.0
PRODID:-//Stratis iCal API//FR
CALSCALE:GREGORIAN
X-WR-CALNAME:Atelier ludique : Comprendre les éclipses
BEGIN:VEVENT
UID:event-433
SUMMARY:Atelier ludique : Comprendre les éclipses
DESCRIPTION:
DTSTAMP:20250721T135124Z
DTSTART:20250824T093000Z
DTEND:20250824T100500Z
STATUS:CONFIRMED
SEQUENCE:7
BEGIN:VALARM
TRIGGER:-PT30M
DESCRIPTION:Atelier ludique : Comprendre les éclipses
ACTION:DISPLAY
END:VALARM
END:VEVENT
END:VCALENDAR