BEGIN:VCALENDAR
VERSION:2.0
PRODID:-//Stratis iCal API//FR
CALSCALE:GREGORIAN
X-WR-CALNAME:Initiation à la photographie des paysages étoilés
BEGIN:VEVENT
UID:event-431
SUMMARY:Initiation à la photographie des paysages étoilés
DESCRIPTION:
DTSTAMP:20250721T133845Z
DTSTART:20250824T140000Z
DTEND:20250824T150000Z
STATUS:CONFIRMED
SEQUENCE:7
BEGIN:VALARM
TRIGGER:-PT30M
DESCRIPTION:Initiation à la photographie des paysages étoilés
ACTION:DISPLAY
END:VALARM
END:VEVENT
END:VCALENDAR