BEGIN:VCALENDAR
VERSION:2.0
PRODID:-//Stratis iCal API//FR
CALSCALE:GREGORIAN
X-WR-CALNAME:Atelier ludique : L'eau dans le système solaire
BEGIN:VEVENT
UID:event-430
SUMMARY:Atelier ludique : L'eau dans le système solaire
DESCRIPTION:
DTSTAMP:20250721T133400Z
DTSTART:20250823T140000Z
DTEND:20250823T150000Z
STATUS:CONFIRMED
SEQUENCE:7
BEGIN:VALARM
TRIGGER:-PT30M
DESCRIPTION:Atelier ludique : L'eau dans le système solaire
ACTION:DISPLAY
END:VALARM
END:VEVENT
END:VCALENDAR