BEGIN:VCALENDAR
VERSION:2.0
PRODID:-//Stratis iCal API//FR
CALSCALE:GREGORIAN
X-WR-CALNAME:Atelier ludique : Sauver les étoiles - Le triangle noir
BEGIN:VEVENT
UID:event-429
SUMMARY:Atelier ludique : Sauver les étoiles - Le triangle noir
DESCRIPTION:
DTSTAMP:20250721T095717Z
DTSTART:20250824T123000Z
DTEND:20250824T133000Z
STATUS:CONFIRMED
SEQUENCE:8
BEGIN:VALARM
TRIGGER:-PT30M
DESCRIPTION:Atelier ludique : Sauver les étoiles - Le triangle noir
ACTION:DISPLAY
END:VALARM
END:VEVENT
END:VCALENDAR