BEGIN:VCALENDAR
VERSION:2.0
PRODID:-//Stratis iCal API//FR
CALSCALE:GREGORIAN
X-WR-CALNAME:Atelier ludique : Construction d'un spectroscope
BEGIN:VEVENT
UID:event-428
SUMMARY:Atelier ludique : Construction d'un spectroscope
DESCRIPTION:
DTSTAMP:20250721T094729Z
DTSTART:20250822T133000Z
DTEND:20250822T150000Z
STATUS:CONFIRMED
SEQUENCE:5
BEGIN:VALARM
TRIGGER:-PT30M
DESCRIPTION:Atelier ludique : Construction d'un spectroscope
ACTION:DISPLAY
END:VALARM
END:VEVENT
END:VCALENDAR