BEGIN:VCALENDAR
VERSION:2.0
PRODID:-//Stratis iCal API//FR
CALSCALE:GREGORIAN
X-WR-CALNAME:Atelier ludique : Je prépare ma soirée d'observation du ciel nocturne
BEGIN:VEVENT
UID:event-427
SUMMARY:Atelier ludique : Je prépare ma soirée d'observation du ciel nocturne
DESCRIPTION:
DTSTAMP:20250721T093214Z
DTSTART:20250823T113000Z
DTEND:20250823T121500Z
STATUS:CONFIRMED
SEQUENCE:5
BEGIN:VALARM
TRIGGER:-PT30M
DESCRIPTION:Atelier ludique : Je prépare ma soirée d'observation du ciel nocturne
ACTION:DISPLAY
END:VALARM
END:VEVENT
END:VCALENDAR