BEGIN:VCALENDAR
VERSION:2.0
PRODID:-//Stratis iCal API//FR
CALSCALE:GREGORIAN
X-WR-CALNAME:Atelier ludique : animation Astroquizz - Dès 15 ans
BEGIN:VEVENT
UID:event-426
SUMMARY:Atelier ludique : animation Astroquizz - Dès 15 ans
DESCRIPTION:
DTSTAMP:20250721T092648Z
DTSTART:20250823T134500Z
DTEND:20250823T142500Z
STATUS:CONFIRMED
SEQUENCE:7
BEGIN:VALARM
TRIGGER:-PT30M
DESCRIPTION:Atelier ludique : animation Astroquizz - Dès 15 ans
ACTION:DISPLAY
END:VALARM
END:VEVENT
END:VCALENDAR