BEGIN:VCALENDAR
VERSION:2.0
PRODID:-//Stratis iCal API//FR
CALSCALE:GREGORIAN
X-WR-CALNAME:Atelier ludique : animation Astroquizz - Tout public
BEGIN:VEVENT
UID:event-425
SUMMARY:Atelier ludique : animation Astroquizz - Tout public
DESCRIPTION:
DTSTAMP:20250721T092048Z
DTSTART:20250822T130000Z
DTEND:20250822T150000Z
STATUS:CONFIRMED
SEQUENCE:7
BEGIN:VALARM
TRIGGER:-PT30M
DESCRIPTION:Atelier ludique : animation Astroquizz - Tout public
ACTION:DISPLAY
END:VALARM
END:VEVENT
END:VCALENDAR