BEGIN:VCALENDAR
VERSION:2.0
PRODID:-//Stratis iCal API//FR
CALSCALE:GREGORIAN
X-WR-CALNAME:Atelier ludique : animation Astroquizz - Dès 7 ans
BEGIN:VEVENT
UID:event-424
SUMMARY:Atelier ludique : animation Astroquizz - Dès 7 ans
DESCRIPTION:
DTSTAMP:20250721T091721Z
DTSTART:20250823T123000Z
DTEND:20250823T130000Z
STATUS:CONFIRMED
SEQUENCE:5
BEGIN:VALARM
TRIGGER:-PT30M
DESCRIPTION:Atelier ludique : animation Astroquizz - Dès 7 ans
ACTION:DISPLAY
END:VALARM
END:VEVENT
END:VCALENDAR