BEGIN:VCALENDAR
VERSION:2.0
PRODID:-//Stratis iCal API//FR
CALSCALE:GREGORIAN
X-WR-CALNAME:Réalité virtuelle
BEGIN:VEVENT
UID:event-423
SUMMARY:Réalité virtuelle
DESCRIPTION:
DTSTAMP:20250721T090943Z
DTSTART:20250824T130000Z
DTEND:20250824T133500Z
STATUS:CONFIRMED
SEQUENCE:9
BEGIN:VALARM
TRIGGER:-PT30M
DESCRIPTION:Réalité virtuelle
ACTION:DISPLAY
END:VALARM
END:VEVENT
END:VCALENDAR