BEGIN:VCALENDAR
VERSION:2.0
PRODID:-//Stratis iCal API//FR
CALSCALE:GREGORIAN
X-WR-CALNAME:Exposition "Fleurs sous les étoiles de la RICE"
BEGIN:VEVENT
UID:event-419
SUMMARY:Exposition "Fleurs sous les étoiles de la RICE"
DESCRIPTION:
DTSTAMP:20250721T084051Z
DTSTART:20250821T220000Z
DTEND:20250823T220000Z
STATUS:CONFIRMED
SEQUENCE:4
BEGIN:VALARM
TRIGGER:-PT30M
DESCRIPTION:Exposition "Fleurs sous les étoiles de la RICE"
ACTION:DISPLAY
END:VALARM
END:VEVENT
END:VCALENDAR